BEGIN:VCALENDAR
VERSION:2.0
PRODID:-//Collège Guenette - ECPv6.15.12.2//NONSGML v1.0//EN
CALSCALE:GREGORIAN
METHOD:PUBLISH
X-WR-CALNAME:Collège Guenette
X-ORIGINAL-URL:https://guenette.clg.ac-guadeloupe.fr
X-WR-CALDESC:Évènements pour Collège Guenette
REFRESH-INTERVAL;VALUE=DURATION:PT1H
X-Robots-Tag:noindex
X-PUBLISHED-TTL:PT1H
BEGIN:VTIMEZONE
TZID:America/Halifax
BEGIN:DAYLIGHT
TZOFFSETFROM:-0400
TZOFFSETTO:-0300
TZNAME:ADT
DTSTART:20180311T060000
END:DAYLIGHT
BEGIN:STANDARD
TZOFFSETFROM:-0300
TZOFFSETTO:-0400
TZNAME:AST
DTSTART:20181104T050000
END:STANDARD
BEGIN:DAYLIGHT
TZOFFSETFROM:-0400
TZOFFSETTO:-0300
TZNAME:ADT
DTSTART:20190310T060000
END:DAYLIGHT
BEGIN:STANDARD
TZOFFSETFROM:-0300
TZOFFSETTO:-0400
TZNAME:AST
DTSTART:20191103T050000
END:STANDARD
BEGIN:DAYLIGHT
TZOFFSETFROM:-0400
TZOFFSETTO:-0300
TZNAME:ADT
DTSTART:20200308T060000
END:DAYLIGHT
BEGIN:STANDARD
TZOFFSETFROM:-0300
TZOFFSETTO:-0400
TZNAME:AST
DTSTART:20201101T050000
END:STANDARD
BEGIN:DAYLIGHT
TZOFFSETFROM:-0400
TZOFFSETTO:-0300
TZNAME:ADT
DTSTART:20210314T060000
END:DAYLIGHT
BEGIN:STANDARD
TZOFFSETFROM:-0300
TZOFFSETTO:-0400
TZNAME:AST
DTSTART:20211107T050000
END:STANDARD
END:VTIMEZONE
BEGIN:VEVENT
DTSTART;TZID=America/Halifax:20200922T083000
DTEND;TZID=America/Halifax:20200922T090000
DTSTAMP:20260423T160946
CREATED:20200920T161118Z
LAST-MODIFIED:20200920T162751Z
UID:1465-1600763400-1600765200@guenette.clg.ac-guadeloupe.fr
SUMMARY:EXERCICE DE MISE EN SÛRETÉ SEISME
DESCRIPTION:EXERCICE « ÉVACUATION » SEISME \nConformément à la réglementation en vigueur concernant les risques de panique en cas d’évacuation d’un établissement scolaire\, il sera procédé à un exercice « SEISME » le mardi 22 septembre 2020 à 8h15. \nLa menace sismique est permanente dans notre zone géographique classée « zone 5 à sismicité forte »  et nous devons apprendre régulièrement à réagir  dans les écoles et les établissements scolaires. \nLa mise en place de ces mesures nécessite la coopération de l’ensemble des membres de la communauté éducative. \n La sécurité\, ce n’est pas uniquement l’affaire du Chef d’Etablissement – C’est l’affaire de tous. \nLa sécurité des écoles et des établissements scolaires est une priorité absolue. Elle concerne au premier rang l’Etat\, mais implique aussi les collectivités territoriales et l’ensemble de la communauté éducative\, qui doit être impliquée pour prévenir la menace et développer une culture pérenne de la gestion des risques. \nAfin de vous aider à préparer cet exercice\, vous vous référerez au protocole attentat intrusion Protocole Exercice MISE EN SURETE SEISME.
URL:https://guenette.clg.ac-guadeloupe.fr/event/exercice-de-mise-en-surete-seisme/
LOCATION:Collège de GUENETTE\, 3\, rue GUSTAVE\, LE MOULE\, Guadeloupe\, 97160\, Guadeloupe
CATEGORIES:Exercice d'évacuation
ATTACH;FMTTYPE=image/jpeg:https://guenette.clg.ac-guadeloupe.fr/wp-content/uploads/sites/19/2020/09/EXERCICE-SEISME.jpg
ORGANIZER;CN="Coll%C3%A8ge de GUENETTE":MAILTO:ce.9711218x@ac-guadeloupe.fr
END:VEVENT
BEGIN:VEVENT
DTSTART;TZID=America/Halifax:20200915T083000
DTEND;TZID=America/Halifax:20200915T090000
DTSTAMP:20260423T160946
CREATED:20200913T135701Z
LAST-MODIFIED:20200913T151009Z
UID:1459-1600158600-1600160400@guenette.clg.ac-guadeloupe.fr
SUMMARY:EXERCICE DE MISE EN SÛRETÉ ATTENTAT-INTRUSION
DESCRIPTION:EXERCICE « ÉVACUATION » ATTENTAT-INTRUSION \nConformément à la réglementation en vigueur concernant les risques de panique en cas d’évacuation d’un établissement scolaire\, il sera procédé à un exercice « attentat-intrusion » le mardi 15 septembre 2020 à 8h30. \nLa menace terroriste impose un renforcement des mesures de sécurité dans les écoles et les établissements scolaires. \nLa mise en place de ces mesures nécessite la coopération de l’ensemble des membres de la communauté éducative. \n La sécurité\, ce n’est pas uniquement l’affaire du Chef d’Etablissement – C’est l’affaire de tous. \nLa sécurité des écoles et des établissements scolaires est une priorité absolue. Elle concerne au premier rang l’Etat\, mais implique aussi les collectivités territoriales et l’ensemble de la communauté éducative\, qui doit être impliquée pour prévenir la menace et développer une culture pérenne de la gestion des risques. \nAfin de vous aider à préparer cet exercice\, vous vous référerez au protocole attentat intrusion Protocole exercice d’évacuation / Mise en sûreté Attentat Intrusion.
URL:https://guenette.clg.ac-guadeloupe.fr/event/exercice-de-mise-en-surete-attentat-intrusion/
LOCATION:Collège de GUENETTE\, 3\, rue GUSTAVE\, LE MOULE\, Guadeloupe\, 97160\, Guadeloupe
CATEGORIES:Exercice d'évacuation
ORGANIZER;CN="Coll%C3%A8ge de GUENETTE":MAILTO:ce.9711218x@ac-guadeloupe.fr
END:VEVENT
BEGIN:VEVENT
DTSTART;TZID=America/Halifax:20191209T161500
DTEND;TZID=America/Halifax:20191209T171000
DTSTAMP:20260423T160946
CREATED:20191202T222929Z
LAST-MODIFIED:20191202T222929Z
UID:1299-1575908100-1575911400@guenette.clg.ac-guadeloupe.fr
SUMMARY:Conseil de classe de la 6D  Exemplaire
DESCRIPTION:Le Conseil de classe de la 6ème D se déroulera en présence des délégués\, des représentants des parents\, des enseignants et sous la direction du Principal à 16H15 précises
URL:https://guenette.clg.ac-guadeloupe.fr/event/conseil-de-classe-de-la-6d-copy/
LOCATION:Salle de Réunion\, 3\, rue GUSTAVE\, LE MOULE\, 97160\, Guadeloupe
CATEGORIES:Conseil de CLASSE
ORGANIZER;CN="Coll%C3%A8ge de GUENETTE":MAILTO:ce.9711218x@ac-guadeloupe.fr
END:VEVENT
BEGIN:VEVENT
DTSTART;TZID=America/Halifax:20191209T161500
DTEND;TZID=America/Halifax:20191209T171000
DTSTAMP:20260423T160946
CREATED:20191202T212354Z
LAST-MODIFIED:20191202T212559Z
UID:1282-1575908100-1575911400@guenette.clg.ac-guadeloupe.fr
SUMMARY:Conseil de classe de la 6D
DESCRIPTION:Le Conseil de classe de la 6ème D se déroulera en présence des délégués\, des représentants des parents\, des enseignants et sous la direction du Principal à 16H15 précises
URL:https://guenette.clg.ac-guadeloupe.fr/event/conseil-de-classe-de-la-6d/
LOCATION:Salle de Réunion\, 3\, rue GUSTAVE\, LE MOULE\, 97160\, Guadeloupe
CATEGORIES:Conseil de CLASSE
ORGANIZER;CN="Coll%C3%A8ge de GUENETTE":MAILTO:ce.9711218x@ac-guadeloupe.fr
END:VEVENT
BEGIN:VEVENT
DTSTART;TZID=America/Halifax:20191206T171500
DTEND;TZID=America/Halifax:20191206T181500
DTSTAMP:20260423T160946
CREATED:20191122T175122Z
LAST-MODIFIED:20191122T175311Z
UID:1266-1575652500-1575656100@guenette.clg.ac-guadeloupe.fr
SUMMARY:Conseil de classe de la 3C
DESCRIPTION:Le Conseil de classe de la 3ème C se déroulera en présence des délégués\, des représentants des parents\, des enseignants et sous la direction du Principal à 17H15 précises
URL:https://guenette.clg.ac-guadeloupe.fr/event/conseil-de-classe-de-la-3c/
LOCATION:Salle de Réunion\, 3\, rue GUSTAVE\, LE MOULE\, 97160\, Guadeloupe
CATEGORIES:Conseil de CLASSE
ORGANIZER;CN="Coll%C3%A8ge de GUENETTE":MAILTO:ce.9711218x@ac-guadeloupe.fr
END:VEVENT
BEGIN:VEVENT
DTSTART;TZID=America/Halifax:20191206T161500
DTEND;TZID=America/Halifax:20191206T171000
DTSTAMP:20260423T160946
CREATED:20191202T222144Z
LAST-MODIFIED:20191202T222510Z
UID:1297-1575648900-1575652200@guenette.clg.ac-guadeloupe.fr
SUMMARY:Conseil de classe de la 4A
DESCRIPTION:Le Conseil de classe de la 4ème A se déroulera en présence des délégués\, des représentants des parents\, des enseignants et sous la direction du Principal à 16H15 précises
URL:https://guenette.clg.ac-guadeloupe.fr/event/conseil-de-classe-de-la-4a/
LOCATION:Salle de Réunion\, 3\, rue GUSTAVE\, LE MOULE\, 97160\, Guadeloupe
CATEGORIES:Conseil de CLASSE
ORGANIZER;CN="Coll%C3%A8ge de GUENETTE":MAILTO:ce.9711218x@ac-guadeloupe.fr
END:VEVENT
BEGIN:VEVENT
DTSTART;TZID=America/Halifax:20191206T161500
DTEND;TZID=America/Halifax:20191206T171000
DTSTAMP:20260423T160946
CREATED:20191122T175127Z
LAST-MODIFIED:20191122T175536Z
UID:1267-1575648900-1575652200@guenette.clg.ac-guadeloupe.fr
SUMMARY:Conseil de classe de la 6C
DESCRIPTION:Le Conseil de classe de la 6ème C se déroulera en présence des délégués\, des représentants des parents\, des enseignants et sous la direction du Principal à 16H15 précises
URL:https://guenette.clg.ac-guadeloupe.fr/event/conseil-de-classe-de-la-6c/
LOCATION:Salle de Réunion\, 3\, rue GUSTAVE\, LE MOULE\, 97160\, Guadeloupe
CATEGORIES:Conseil de CLASSE
ORGANIZER;CN="Coll%C3%A8ge de GUENETTE":MAILTO:ce.9711218x@ac-guadeloupe.fr
END:VEVENT
BEGIN:VEVENT
DTSTART;TZID=America/Halifax:20191205T171500
DTEND;TZID=America/Halifax:20191205T181500
DTSTAMP:20260423T160946
CREATED:20191122T174738Z
LAST-MODIFIED:20191122T175331Z
UID:1263-1575566100-1575569700@guenette.clg.ac-guadeloupe.fr
SUMMARY:Conseil de classe de la 3B
DESCRIPTION:Le Conseil de classe de la 3ème B se déroulera en présence des délégués\, des représentants des parents\, des enseignants et sous la direction du Principal à 17H15 précises
URL:https://guenette.clg.ac-guadeloupe.fr/event/conseil-de-classe-de-la-3b/
LOCATION:Salle de Réunion\, 3\, rue GUSTAVE\, LE MOULE\, 97160\, Guadeloupe
CATEGORIES:Conseil de CLASSE
ORGANIZER;CN="Coll%C3%A8ge de GUENETTE":MAILTO:ce.9711218x@ac-guadeloupe.fr
END:VEVENT
BEGIN:VEVENT
DTSTART;TZID=America/Halifax:20191205T161500
DTEND;TZID=America/Halifax:20191205T171000
DTSTAMP:20260423T160946
CREATED:20191202T221719Z
LAST-MODIFIED:20191202T221847Z
UID:1294-1575562500-1575565800@guenette.clg.ac-guadeloupe.fr
SUMMARY:Conseil de classe de la 4B
DESCRIPTION:Le Conseil de classe de la 4ème B se déroulera en présence des délégués\, des représentants des parents\, des enseignants et sous la direction du Principal à 16H15 précises
URL:https://guenette.clg.ac-guadeloupe.fr/event/conseil-de-classe-de-la-4b/
LOCATION:Salle de Réunion\, 3\, rue GUSTAVE\, LE MOULE\, 97160\, Guadeloupe
CATEGORIES:Conseil de CLASSE
ORGANIZER;CN="Coll%C3%A8ge de GUENETTE":MAILTO:ce.9711218x@ac-guadeloupe.fr
END:VEVENT
BEGIN:VEVENT
DTSTART;TZID=America/Halifax:20191205T161500
DTEND;TZID=America/Halifax:20191205T171000
DTSTAMP:20260423T160946
CREATED:20191122T174731Z
LAST-MODIFIED:20191122T175354Z
UID:1262-1575562500-1575565800@guenette.clg.ac-guadeloupe.fr
SUMMARY:Conseil de classe de la 6B
DESCRIPTION:Le Conseil de classe de la 6ème B se déroulera en présence des délégués\, des représentants des parents\, des enseignants et sous la direction du Principal à 16H15 précises
URL:https://guenette.clg.ac-guadeloupe.fr/event/conseil-de-classe-de-la-6b/
LOCATION:Salle de Réunion\, 3\, rue GUSTAVE\, LE MOULE\, 97160\, Guadeloupe
CATEGORIES:Conseil de CLASSE
ORGANIZER;CN="Coll%C3%A8ge de GUENETTE":MAILTO:ce.9711218x@ac-guadeloupe.fr
END:VEVENT
BEGIN:VEVENT
DTSTART;TZID=America/Halifax:20191203T171500
DTEND;TZID=America/Halifax:20191203T181500
DTSTAMP:20260423T160946
CREATED:20191122T174500Z
LAST-MODIFIED:20191122T174607Z
UID:1256-1575393300-1575396900@guenette.clg.ac-guadeloupe.fr
SUMMARY:Conseil de classe de la 3A
DESCRIPTION:Le Conseil de classe de la 3ème A se déroulera en présence des délégués\, des représentants des parents\, des enseignants et sous la direction du Principal à 17H15 précises
URL:https://guenette.clg.ac-guadeloupe.fr/event/conseil-de-classe-de-la-3a/
LOCATION:Salle de Réunion\, 3\, rue GUSTAVE\, LE MOULE\, 97160\, Guadeloupe
CATEGORIES:Conseil de CLASSE
ORGANIZER;CN="Coll%C3%A8ge de GUENETTE":MAILTO:ce.9711218x@ac-guadeloupe.fr
END:VEVENT
BEGIN:VEVENT
DTSTART;TZID=America/Halifax:20191203T161500
DTEND;TZID=America/Halifax:20191203T171000
DTSTAMP:20260423T160946
CREATED:20191202T213546Z
LAST-MODIFIED:20191202T213712Z
UID:1291-1575389700-1575393000@guenette.clg.ac-guadeloupe.fr
SUMMARY:Conseil de classe de la 4C
DESCRIPTION:Le Conseil de classe de la 4ème C se déroulera en présence des délégués\, des représentants des parents\, des enseignants et sous la direction de la  Principale Adjointe à 16H15 précises
URL:https://guenette.clg.ac-guadeloupe.fr/event/conseil-de-classe-de-la-4c/
LOCATION:Salle de Réunion\, 3\, rue GUSTAVE\, LE MOULE\, 97160\, Guadeloupe
CATEGORIES:Conseil de CLASSE
ORGANIZER;CN="Coll%C3%A8ge de GUENETTE":MAILTO:ce.9711218x@ac-guadeloupe.fr
END:VEVENT
BEGIN:VEVENT
DTSTART;TZID=America/Halifax:20191203T161500
DTEND;TZID=America/Halifax:20191203T171000
DTSTAMP:20260423T160946
CREATED:20191122T174510Z
LAST-MODIFIED:20191122T174724Z
UID:1259-1575389700-1575393000@guenette.clg.ac-guadeloupe.fr
SUMMARY:Conseil de classe de la 6A
DESCRIPTION:Le Conseil de classe de la 6ème A se déroulera en présence des délégués\, des représentants des parents\, des enseignants et sous la direction du Principal à 16H15 précises
URL:https://guenette.clg.ac-guadeloupe.fr/event/conseil-de-classe-de-la-6a/
LOCATION:Salle de Réunion\, 3\, rue GUSTAVE\, LE MOULE\, 97160\, Guadeloupe
CATEGORIES:Conseil de CLASSE
ORGANIZER;CN="Coll%C3%A8ge de GUENETTE":MAILTO:ce.9711218x@ac-guadeloupe.fr
END:VEVENT
BEGIN:VEVENT
DTSTART;TZID=America/Halifax:20191202T163000
DTEND;TZID=America/Halifax:20191202T190000
DTSTAMP:20260423T160946
CREATED:20191122T172613Z
LAST-MODIFIED:20191122T172613Z
UID:1254-1575304200-1575313200@guenette.clg.ac-guadeloupe.fr
SUMMARY:Conseil d'Administration n°2
DESCRIPTION:Le deuxième conseil d’administration de l’année scolaire traitera du budget de l’année civile 2020 ainsi  que des projets qui dépendent de celui-ci.  \nL’ordre du jour annoncé est le suivant :  \n\nLecture et approbation du procès-verbal de la séance du mardi 05 novembre 2019 \nLes projets 2020 \nLe Budget 2020 \nLa dénomination du collège \n Les questions diverses
URL:https://guenette.clg.ac-guadeloupe.fr/event/conseil-dadministration-n2/
LOCATION:Collège de GUENETTE\, 3\, rue GUSTAVE\, LE MOULE\, Guadeloupe\, 97160\, Guadeloupe
CATEGORIES:Réunion de Travail
ORGANIZER;CN="Coll%C3%A8ge de GUENETTE":MAILTO:ce.9711218x@ac-guadeloupe.fr
END:VEVENT
BEGIN:VEVENT
DTSTART;TZID=America/Halifax:20191128T133000
DTEND;TZID=America/Halifax:20191128T160000
DTSTAMP:20260423T160946
CREATED:20191122T171959Z
LAST-MODIFIED:20191122T171959Z
UID:1252-1574947800-1574956800@guenette.clg.ac-guadeloupe.fr
SUMMARY:Conseil Ecoles Collège
DESCRIPTION:Premier Conseil Ecoles Collège de l’année. \nA l’ordre du jour sont prévus : \n  \n\nLe bilan des actions 2018-2019\nLes évaluations diagnostics d’entrée en CM1 et en 6ème\n Les projets pour l’année scolaire 2019-2020
URL:https://guenette.clg.ac-guadeloupe.fr/event/conseil-ecoles-college/
LOCATION:Collège de GUENETTE\, 3\, rue GUSTAVE\, LE MOULE\, Guadeloupe\, 97160\, Guadeloupe
CATEGORIES:Réunion de Travail
ORGANIZER;CN="Coll%C3%A8ge de GUENETTE":MAILTO:ce.9711218x@ac-guadeloupe.fr
END:VEVENT
BEGIN:VEVENT
DTSTART;TZID=America/Halifax:20191125T140000
DTEND;TZID=America/Halifax:20191125T160000
DTSTAMP:20260423T160946
CREATED:20191122T171111Z
LAST-MODIFIED:20191122T171414Z
UID:1247-1574690400-1574697600@guenette.clg.ac-guadeloupe.fr
SUMMARY:Début de l'accompagnement des élèves en mathématiques.
DESCRIPTION:Aux parents d’élèves de 6ème \n\nLes élèves repérés en difficulté à l’issue de l’évaluation nationale seront pris en charge\ndans le cadre d’un programme d’accompagnement en Français et mathématiques. \nPour permettre le bon déroulement de la prise en charge\, l’emploi du temps a été modifié pour\nles élèves de la 6ème F en semaine A. \nLe programme démarrera le lundi 25 novembre 2019 pour les mathématiques et ce tous les lundis en semaine A\,  jusqu’à la fin de l’année scolaire.
URL:https://guenette.clg.ac-guadeloupe.fr/event/debut-de-laccompagnement-des-eleves-en-mathematiques/
LOCATION:Collège de GUENETTE\, 3\, rue GUSTAVE\, LE MOULE\, Guadeloupe\, 97160\, Guadeloupe
CATEGORIES:Accompagnement éducatif
ORGANIZER;CN="Coll%C3%A8ge de GUENETTE":MAILTO:ce.9711218x@ac-guadeloupe.fr
END:VEVENT
BEGIN:VEVENT
DTSTART;VALUE=DATE:20190702
DTEND;VALUE=DATE:20190703
DTSTAMP:20260423T160946
CREATED:20190430T011951Z
LAST-MODIFIED:20190620T184120Z
UID:1078-1562025600-1562111999@guenette.clg.ac-guadeloupe.fr
SUMMARY:Inscriptions Rentrée 2019 en 6ème
DESCRIPTION:Les inscriptions des élèves en classes de 6ème se dérouleront du 02 AU 05 JUILLET 2019 dans les bureaux de la vie scolaire : \nTous les jours de 7h30 à 12h30  sauf le Mercredi (fermeture des bureaux à 11h) \net de 13h30 à 16h sauf le Vendredi (fermeture des bureaux à 12h30) \n  \nLes élèves bénéficiant d’une dérogation sont accueillis tous les jours\, ceux venant des écoles de rattachement sont attendus selon le planning indiqué ci après  :  \nRetrouvez ci après les modalités d’inscriptions  \nListe des pièces à fournir agrandie \nCalendrier et déroulement des inscriptions
URL:https://guenette.clg.ac-guadeloupe.fr/event/inscriptions-rentree-2019-en-6/
LOCATION:Collège de GUENETTE\, 3\, rue GUSTAVE\, LE MOULE\, Guadeloupe\, 97160\, Guadeloupe
CATEGORIES:Démarche Administrative
END:VEVENT
BEGIN:VEVENT
DTSTART;TZID=America/Halifax:20190624T170000
DTEND;TZID=America/Halifax:20190624T183000
DTSTAMP:20260423T160946
CREATED:20190612T174322Z
LAST-MODIFIED:20190612T174322Z
UID:1154-1561395600-1561401000@guenette.clg.ac-guadeloupe.fr
SUMMARY:Assemblée Générale de l'Association Sportive du Collège
DESCRIPTION:L’assemblée générale de l’Association Sportive du collège se tiendra le LUNDI 24 JUIN 2019 à 17h au collège. \nOrdre du jour:\n– bilan de l’année\n– bilan financier\n– questions diverses\n \nSportivement\nMme Soenen
URL:https://guenette.clg.ac-guadeloupe.fr/event/assemblee-generale-de-lassociation-sportive-du-college/
LOCATION:Collège de GUENETTE\, 3\, rue GUSTAVE\, LE MOULE\, Guadeloupe\, 97160\, Guadeloupe
END:VEVENT
BEGIN:VEVENT
DTSTART;VALUE=DATE:20190624
DTEND;VALUE=DATE:20190625
DTSTAMP:20260423T160946
CREATED:20190430T012035Z
LAST-MODIFIED:20190620T182911Z
UID:1080-1561334400-1561420799@guenette.clg.ac-guadeloupe.fr
SUMMARY:Inscriptions Rentrée 2019 en 3ème
DESCRIPTION:Les inscriptions des élèves en classes de 3ème se dérouleront dans les bureaux de la vie scolaire de 7h30 à 12h30 puis de 13h30 à 16h. \nRetrouvez ci après les modalités d’inscriptions  \nListe des pièces à fournir agrandie \nCalendrier et déroulement des inscriptions
URL:https://guenette.clg.ac-guadeloupe.fr/event/inscriptions-rentree-2019-en-3/
LOCATION:Collège de GUENETTE\, 3\, rue GUSTAVE\, LE MOULE\, Guadeloupe\, 97160\, Guadeloupe
CATEGORIES:Démarche Administrative
END:VEVENT
BEGIN:VEVENT
DTSTART;TZID=America/Halifax:20190621T200000
DTEND;TZID=America/Halifax:20190621T213000
DTSTAMP:20260423T160946
CREATED:20190612T174846Z
LAST-MODIFIED:20190612T174846Z
UID:1156-1561147200-1561152600@guenette.clg.ac-guadeloupe.fr
SUMMARY:Projection des films de l'Option Cinéma
DESCRIPTION:Nous avons le plaisir de vous à la projection des productions de l’option cinéma du Collège Guénette. \nGWAD’IMPACT (Docu-fiction)\, \nFLAMME DE L’EGALITE (Fiction-historique)\, \nTEASER COLLEGE GUENETTE (Flash Documentaire)\, \nHORSES LAND (Western)\, \nTHIS IS NOT AN ORDINARY DAY (Fiction) \net \nPRÊTE-MOI TA PLUME (Fiction) \nsont les films qui animeront votre séance d’ 1h30 : \nVendredi 21 Juin 2019 à 20 heures\nà la salle Robert Loyson du Moule \nAfin de vous laisser tenter\, veuillez trouver ci-dessous le teaser du nouveau\nfilm intitulé « Prête-moi ta plume » qui sera présenté lors de cette soirée\nparticulière : \n\nhttps://guenette.clg.ac-guadeloupe.fr/wp-content/uploads/sites/19/2019/06/TEASER-Prte-moi-ta-plume-fiction.mp4\n  \nLes tickets seront disponibles en pré-vente (au tarif de 4 euros) dès le jeudi 6\njuin auprès de M. JANOT\, ainsi qu’à l’accueil du collège. \nToutefois\, il sera évidemment possible de les acheter sur place le soir de la projection au tarif de 5 euros \nSYNOPSIS DES FILMS \n   \n 
URL:https://guenette.clg.ac-guadeloupe.fr/event/projection-des-films-de-loption-cinema/
LOCATION:Salle Robert LOYSON\, Boulevard ROUGé\, LE MOULE\, 97160
CATEGORIES:Mise à l'honneur
ATTACH;FMTTYPE=image/png:https://guenette.clg.ac-guadeloupe.fr/wp-content/uploads/sites/19/2019/06/affiche-finale_1.png
END:VEVENT
BEGIN:VEVENT
DTSTART;TZID=America/Halifax:20190621T093000
DTEND;TZID=America/Halifax:20190621T123000
DTSTAMP:20260423T160946
CREATED:20190619T200113Z
LAST-MODIFIED:20190619T200403Z
UID:1189-1561109400-1561120200@guenette.clg.ac-guadeloupe.fr
SUMMARY:Spectacle de la section eurocaribéenne espagnol du collège Guénette
DESCRIPTION:Dans le cadre de leur apprentissage en section Eurocaribéenne Espagnol\, les élèves de 4ème et de 3ème\, encadrés par leurs professeurs Madame LALANNE et Monsieur CAPELA invitent leurs camarades du collège à assister à leur représentation qui aura lieu \nVendredi 21 Juin 2019 à partir de 9h30  à la salle Robert LOYSON  du Moule ! \n  \nLes autorisations de participation à cette sortie pédagogique remises aux familles doivent revenir au collège au plus tard Jeudi 20 Juin 12h.  \n  \n  \n 
URL:https://guenette.clg.ac-guadeloupe.fr/event/spectacle-de-la-section-eurocaribeenne-espagnol-du-college-guenette/
LOCATION:Salle Robert LOYSON\, Boulevard ROUGé\, LE MOULE\, 97160
CATEGORIES:Spectacle / Représentation
END:VEVENT
BEGIN:VEVENT
DTSTART;VALUE=DATE:20190621
DTEND;VALUE=DATE:20190622
DTSTAMP:20260423T160946
CREATED:20190430T012022Z
LAST-MODIFIED:20190620T182956Z
UID:1079-1561075200-1561161599@guenette.clg.ac-guadeloupe.fr
SUMMARY:Inscriptions Rentrée 2019 en 4ème
DESCRIPTION:Les inscriptions des élèves en classes de 4ème se dérouleront dans les bureaux de la vie scolaire de 7h30 à 12h. \nRetrouvez ci après les modalités d’inscriptions  \nListe des pièces à fournir agrandie \nCalendrier et déroulement des inscriptions
URL:https://guenette.clg.ac-guadeloupe.fr/event/inscriptions-rentree-2019-en-4/
LOCATION:Collège de GUENETTE\, 3\, rue GUSTAVE\, LE MOULE\, Guadeloupe\, 97160\, Guadeloupe
CATEGORIES:Démarche Administrative
END:VEVENT
BEGIN:VEVENT
DTSTART;VALUE=DATE:20190620
DTEND;VALUE=DATE:20190621
DTSTAMP:20260423T160946
CREATED:20190430T011932Z
LAST-MODIFIED:20190620T133007Z
UID:1075-1560988800-1561075199@guenette.clg.ac-guadeloupe.fr
SUMMARY:Inscriptions Rentrée 2019 en 5ème
DESCRIPTION:Les inscriptions des élèves en classes de 5ème se dérouleront dans les bureaux de la vie scolaire de 7h30 à 12h30 puis de 13H30 à 16h. \nRetrouvez ci après les modalités d’inscriptions  \nListe des pièces à fournir agrandie \nCalendrier et déroulement des inscriptions
URL:https://guenette.clg.ac-guadeloupe.fr/event/inscriptions-rentree-2019-en-5eme/
LOCATION:Collège de GUENETTE\, 3\, rue GUSTAVE\, LE MOULE\, Guadeloupe\, 97160\, Guadeloupe
CATEGORIES:Démarche Administrative
END:VEVENT
BEGIN:VEVENT
DTSTART;TZID=America/Halifax:20190619T120000
DTEND;TZID=America/Halifax:20190619T140000
DTSTAMP:20260423T160946
CREATED:20190619T052948Z
LAST-MODIFIED:20190619T052948Z
UID:1167-1560945600-1560952800@guenette.clg.ac-guadeloupe.fr
SUMMARY:Présélections Section Kayak
DESCRIPTION:TESTS DE SELECTION 2019 : MERCREDI 19 juin de 12h à 14h BASE DE KAYAK DU MOULE\nSi vous souhaitez inscrire votre enfant présentez-vous aux tests avec la fiche d’inscription jointe + copie résultats \nscolaires du dernier trimestre \n  \nPour tous renseignements\, consultez la page ci après
URL:https://guenette.clg.ac-guadeloupe.fr/event/preselections-section-kayak/
LOCATION:Guadeloupe
CATEGORIES:Section Sportive
END:VEVENT
BEGIN:VEVENT
DTSTART;TZID=America/Halifax:20190619T110000
DTEND;TZID=America/Halifax:20190619T130000
DTSTAMP:20260423T160946
CREATED:20190619T053000Z
LAST-MODIFIED:20190619T053400Z
UID:1169-1560942000-1560949200@guenette.clg.ac-guadeloupe.fr
SUMMARY:Présélections Section Golf
DESCRIPTION:TESTS DE SELECTION 2019 : MERCREDI 19 juin à 11h au Collège \nSi vous souhaitez inscrire votre enfant présentez-vous aux tests avec la fiche d’inscription jointe + copie résultats \nscolaires du dernier trimestre \n  \nPour tous renseignements\, consultez la page ci après
URL:https://guenette.clg.ac-guadeloupe.fr/event/preselections-section-golf/
LOCATION:Collège de GUENETTE\, 3\, rue GUSTAVE\, LE MOULE\, Guadeloupe\, 97160\, Guadeloupe
CATEGORIES:Section Sportive
END:VEVENT
BEGIN:VEVENT
DTSTART;TZID=America/Halifax:20190612T083000
DTEND;TZID=America/Halifax:20190612T113000
DTSTAMP:20260423T160946
CREATED:20190610T154054Z
LAST-MODIFIED:20190610T154147Z
UID:1133-1560328200-1560339000@guenette.clg.ac-guadeloupe.fr
SUMMARY:Village pédagogique 2019 de la Circonscription de Saint-François
DESCRIPTION:M. l’IEN de la circonscription de St-François et M. le Principal du collège de Guénette convient tous les enseignants de la circonscription à un partage professionnel et convivial autour de leurs pratiques\, utile pour mieux vivre leur métier\, pour le valoriser\, et pour se former entre pairs afin de mieux faire réussir tous les élèves. \nRetrouvez ici le programme de la manifestation : D?pliant Village P?dagogique Circo SF 120619
URL:https://guenette.clg.ac-guadeloupe.fr/event/village-pedagogique-2019-de-la-circonscription-de-saint-francois/
LOCATION:Collège de GUENETTE\, 3\, rue GUSTAVE\, LE MOULE\, Guadeloupe\, 97160\, Guadeloupe
CATEGORIES:Journée Pédagogique
END:VEVENT
BEGIN:VEVENT
DTSTART;TZID=America/Halifax:20190529T080000
DTEND;TZID=America/Halifax:20190529T120000
DTSTAMP:20260423T160946
CREATED:20190430T010024Z
LAST-MODIFIED:20190430T010355Z
UID:1072-1559116800-1559131200@guenette.clg.ac-guadeloupe.fr
SUMMARY:Aide aux élèves pour la préparation de l'épreuve orale du DNB
DESCRIPTION:Suite à l’épreuve blanche de l’oral du DNB\, une aide est proposée aux élèves qui auraient rencontré des difficultés dans cet exercice particulier.  \nLe planning et l’organisation seront communiquées dans les prochaines semaines.
URL:https://guenette.clg.ac-guadeloupe.fr/event/aide-aux-eleves-pour-la-preparation-de-lepreuve-orale-du-dnb/
LOCATION:Collège de GUENETTE\, 3\, rue GUSTAVE\, LE MOULE\, Guadeloupe\, 97160\, Guadeloupe
CATEGORIES:Epreuve DNB,Accompagnement éducatif
END:VEVENT
BEGIN:VEVENT
DTSTART;VALUE=DATE:20190520
DTEND;VALUE=DATE:20190521
DTSTAMP:20260423T160946
CREATED:20190430T002935Z
LAST-MODIFIED:20190430T003942Z
UID:1068-1558310400-1558396799@guenette.clg.ac-guadeloupe.fr
SUMMARY:Epreuve Orale du DNB
DESCRIPTION:La date officielle retenue au Collège de GUENETTE pour le passage de l’épreuve orale du DNB est le 13 JUIN 2019.  \nLes élèves recevront des convocations officielles selon le sujet et les conditions de passage qu’ils ont choisi sur la fiche navette remise à leurs professeurs principaux (passage individuel ou en groupe\, extrait en langue vivante 1 ou 2…).
URL:https://guenette.clg.ac-guadeloupe.fr/event/oral-dnb/
LOCATION:Collège de GUENETTE\, 3\, rue GUSTAVE\, LE MOULE\, Guadeloupe\, 97160\, Guadeloupe
CATEGORIES:Epreuve DNB
END:VEVENT
BEGIN:VEVENT
DTSTART;VALUE=DATE:20190520
DTEND;VALUE=DATE:20190521
DTSTAMP:20260423T160946
CREATED:20190430T002355Z
LAST-MODIFIED:20190430T002607Z
UID:1065-1558310400-1558396799@guenette.clg.ac-guadeloupe.fr
SUMMARY:Epreuve Orale Blanche du DNB
DESCRIPTION:Dans le cadre de leur préparation au DNB\, les élèves de 3ème subiront une simulation de l’épreuve orale selon les convocations qu’ils recevront individuellement.
URL:https://guenette.clg.ac-guadeloupe.fr/event/journee-portes-ouvertes-du-college-copy-3-copy-2-copy/
LOCATION:Collège de GUENETTE\, 3\, rue GUSTAVE\, LE MOULE\, Guadeloupe\, 97160\, Guadeloupe
CATEGORIES:Epreuve DNB
END:VEVENT
BEGIN:VEVENT
DTSTART;VALUE=DATE:20190520
DTEND;VALUE=DATE:20190521
DTSTAMP:20260423T160946
CREATED:20190430T001527Z
LAST-MODIFIED:20190501T233917Z
UID:1055-1558310400-1558396799@guenette.clg.ac-guadeloupe.fr
SUMMARY:Epreuve d'ASSR Niveau 1 ( 5èmes)
DESCRIPTION:Dans le cadre de leur formation citoyenne et dans l’objectif de l’obtention de leur DNB\, les élèves de 5ème passent l’ Attestation Scolaire de Sécurité Routière de niveau 1.  \nCe passage est prévu par classe suivant un calendrier qui sera publié ultérieurement.  \nLes élèves de 3ème et de 5ème peuvent se renseigner et se préparer ici
URL:https://guenette.clg.ac-guadeloupe.fr/event/assr1/
LOCATION:Collège de GUENETTE\, 3\, rue GUSTAVE\, LE MOULE\, Guadeloupe\, 97160\, Guadeloupe
CATEGORIES:Epreuve DNB
END:VEVENT
END:VCALENDAR